BEGIN:VCALENDAR
VERSION:2.0
PRODID:-//hacksw/handcal//NONSGML v1.0//EN
BEGIN:VEVENT
DTSTART:20240516T100000Z
DTEND:20240516T110000Z
LOCATION:https://teams.microsoft.com/l/meetup-join/19:meeting_OTMyYTMyOTktNzZmMS00M2VkLWFhYjYtMWNiZDRhN2U2NTI1@thread.v2/0?context={"Tid":"3b8fea53-2a9f-45fd-90ab-c44b62b649e4","Oid":"3bf74089-7e38-4c59-a1e7-4dd2ca127532"}
ORGANIZER;CN=Sarah Poncet:MAILTO:
SUMMARY:Echange avec Jean-Marc Defour : Alumni ISTP et Auteur Inspirant de « De Patron à Facilitateur »
DESCRIPTION:EVENEMENT REPORTE POUR RAISON PROFESSIONNELLE - A SUIVRE...\nRencontre et discussion en ligne avec Jean-Marc Defour le jeudi 16 Mai à 12h.Président du Groupe Phéa et issu de la toute première...
URL:https://www.istp-alumni.fr/fr/event/echange-avec-jean-marc-defour-alumni-istp-et-auteur-inspirant-de-de-patron-a-facilitateur/2024/05/16/26
BEGIN:VALARM
TRIGGER:-P0DT1H0M0S
ACTION:DISPLAY
END:VALARM
END:VEVENT
END:VCALENDAR